BEGIN:VCALENDAR
VERSION:2.0
METHOD:PUBLISH
PRODID:-//Telerik Inc.//Sitefinity CMS 15.3//EN
BEGIN:VTIMEZONE
TZID:Eastern Standard Time
BEGIN:STANDARD
DTSTART:20251102T020000
RRULE:FREQ=YEARLY;BYDAY=1SU;BYHOUR=2;BYMINUTE=0;BYMONTH=11
TZNAME:Eastern Standard Time
TZOFFSETFROM:-0400
TZOFFSETTO:-0500
END:STANDARD
BEGIN:DAYLIGHT
DTSTART:20250301T020000
RRULE:FREQ=YEARLY;BYDAY=2SU;BYHOUR=2;BYMINUTE=0;BYMONTH=3
TZNAME:Eastern Daylight Time
TZOFFSETFROM:-0500
TZOFFSETTO:-0400
END:DAYLIGHT
END:VTIMEZONE
BEGIN:VEVENT
DESCRIPTION:About The WebinarThis webinar will provide a detailed overview 
 of the mandatory e‑filing requirements and practical guidance for importer
 s preparing for implementation. ST&amp\;R professionals will review in det
 ail some of these standards and discuss more broadly the new CPSC e-filing
  requirements and methods.Key TopicsOverview of CPSIA certification requir
 ements and statutory authority for mandatory e‑filingScope of products sub
 ject to CPSC e‑filing requirements\, including apparel\, textiles\, and ch
 ildren’s productsOverview of applicable CPSC safety standards\, including 
 flammability and children’s product requirementsComparison of the CPSC e‑f
 iling options: Product Registry vs. full PGA data set submissionPractical 
 steps importers should be taking now to prepare for the July 8\, 2026 impl
 ementation datehttps://www.strtrade.com/training/events/upcoming-webinars/
 mandatory-cpsc-e-filing-requirements-preparing-for-the-july-8-2026-deadlin
 e&nbsp\;
DTEND:20260507T190000Z
DTSTAMP:20260422T014652Z
DTSTART:20260507T180000Z
LOCATION:
SEQUENCE:0
SUMMARY:STR Webinar: Mandatory CPSC e-Filing Requirements: Preparing for th
 e July 8\, 2026 Deadline
UID:RFCALITEM639124192125702058
X-ALT-DESC;FMTTYPE=text/html:<div>About The Webinar</div><div>This webinar 
 will provide a detailed overview of the mandatory e‑filing requirements an
 d practical guidance for importers preparing for implementation. ST&amp\;R
  professionals will review in detail some of these standards and discuss m
 ore broadly the new CPSC e-filing requirements and methods.</div><div>Key 
 Topics</div><div>Overview of CPSIA certification requirements and statutor
 y authority for mandatory e‑filing</div><div>Scope of products subject to 
 CPSC e‑filing requirements\, including apparel\, textiles\, and children’s
  products</div><div>Overview of applicable CPSC safety standards\, includi
 ng flammability and children’s product requirements</div><div>Comparison o
 f the CPSC e‑filing options: Product Registry vs. full PGA data set submis
 sion</div><div><p>Practical steps importers should be taking now to prepar
 e for the July 8\, 2026 implementation date</p><p><a href="https://www.str
 trade.com/training/events/upcoming-webinars/mandatory-cpsc-e-filing-requir
 ements-preparing-for-the-july-8-2026-deadline">https://www.strtrade.com/tr
 aining/events/upcoming-webinars/mandatory-cpsc-e-filing-requirements-prepa
 ring-for-the-july-8-2026-deadline</a>&nbsp\;</p></div>
END:VEVENT
END:VCALENDAR
