BEGIN:VCALENDAR
VERSION:2.0
METHOD:PUBLISH
PRODID:-//Telerik Inc.//Sitefinity CMS 15.3//EN
BEGIN:VTIMEZONE
TZID:Eastern Standard Time
BEGIN:STANDARD
DTSTART:20251102T020000
RRULE:FREQ=YEARLY;BYDAY=1SU;BYHOUR=2;BYMINUTE=0;BYMONTH=11
TZNAME:Eastern Standard Time
TZOFFSETFROM:-0400
TZOFFSETTO:-0500
END:STANDARD
BEGIN:DAYLIGHT
DTSTART:20250301T020000
RRULE:FREQ=YEARLY;BYDAY=2SU;BYHOUR=2;BYMINUTE=0;BYMONTH=3
TZNAME:Eastern Daylight Time
TZOFFSETFROM:-0500
TZOFFSETTO:-0400
END:DAYLIGHT
END:VTIMEZONE
BEGIN:VEVENT
DESCRIPTION:About The WebinarJoin us for a webinar examining the current st
 ate of the IEEPA tariff refund process. Our speaker will analyze the ongoi
 ng back-and-forth between Judge Eaton and U.S. Customs and Border Protecti
 on\, including CBP’s most recent status report outlining which refunds wil
 l be processed in Phase 1 of CAPE.This webinar will provide a clear analys
 is of recent hearings and CBP positions\, along with practical guidance fo
 r importers navigating a complex tariff and refund landscape.Key TopicsOve
 rview of the current status of the case\, including recent statements from
  Judge Eaton and CBPBreakdown of CBP’s latest status report on Phase 1 of 
 CAPE\, including which imports are included—and excluded—from the first tr
 anche of refundsTiming considerations for filing protests in light of CBP’
 s stated position and best practices for protest filing strategyImmediate 
 steps importers should take to protect refund eligibility\, including enro
 lling in electronic refunds in ACE\, monitoring liquidation\, filing prote
 sts\, and evaluating potential litigation optionshttps://www.strtrade.com/
 training/events/upcoming-webinars/ieepa-refunds-and-litigation-update-it-a
 in-t-over-till-it-s-over&nbsp\;
DTEND:20260423T190000Z
DTSTAMP:20260421T232953Z
DTSTART:20260423T180000Z
LOCATION:
SEQUENCE:0
SUMMARY:STR Webinar: IEEPA Refunds and Litigation Update - It Ain’t Over Ti
 ll It’s Over
UID:RFCALITEM639124109934598296
X-ALT-DESC;FMTTYPE=text/html:<div>About The Webinar</div><div>Join us for a
  webinar examining the current state of the IEEPA tariff refund process. O
 ur speaker will analyze the ongoing back-and-forth between Judge Eaton and
  U.S. Customs and Border Protection\, including CBP’s most recent status r
 eport outlining which refunds will be processed in Phase 1 of CAPE.</div><
 div><br></div><div>This webinar will provide a clear analysis of recent he
 arings and CBP positions\, along with practical guidance for importers nav
 igating a complex tariff and refund landscape.</div><div>Key Topics</div><
 div>Overview of the current status of the case\, including recent statemen
 ts from Judge Eaton and CBP</div><div>Breakdown of CBP’s latest status rep
 ort on Phase 1 of CAPE\, including which imports are included—and excluded
 —from the first tranche of refunds</div><div>Timing considerations for fil
 ing protests in light of CBP’s stated position and best practices for prot
 est filing strategy</div><div><p>Immediate steps importers should take to 
 protect refund eligibility\, including enrolling in electronic refunds in 
 ACE\, monitoring liquidation\, filing protests\, and evaluating potential 
 litigation options</p><p><a href="https://www.strtrade.com/training/events
 /upcoming-webinars/ieepa-refunds-and-litigation-update-it-ain-t-over-till-
 it-s-over">https://www.strtrade.com/training/events/upcoming-webinars/ieep
 a-refunds-and-litigation-update-it-ain-t-over-till-it-s-over</a>&nbsp\;</p
 ></div>
END:VEVENT
END:VCALENDAR
