BEGIN:VCALENDAR
VERSION:2.0
METHOD:PUBLISH
PRODID:-//Telerik Inc.//Sitefinity CMS 15.3//EN
BEGIN:VTIMEZONE
TZID:Eastern Standard Time
BEGIN:STANDARD
DTSTART:20251102T020000
RRULE:FREQ=YEARLY;BYDAY=1SU;BYHOUR=2;BYMINUTE=0;BYMONTH=11
TZNAME:Eastern Standard Time
TZOFFSETFROM:-0400
TZOFFSETTO:-0500
END:STANDARD
BEGIN:DAYLIGHT
DTSTART:20250301T020000
RRULE:FREQ=YEARLY;BYDAY=2SU;BYHOUR=2;BYMINUTE=0;BYMONTH=3
TZNAME:Eastern Daylight Time
TZOFFSETFROM:-0500
TZOFFSETTO:-0400
END:DAYLIGHT
END:VTIMEZONE
BEGIN:VEVENT
DESCRIPTION:Drawing from their day-to-day work reviewing FDA-regulated entr
 ies\, our speakers will discuss:Product ClassificationAffirmations of Comp
 liance OverviewOverview of Foreign Supplier Verification ProgramFSVP File 
 RequirementsFiler Evaluation Trendshttps://fcbf.starchapter.com/meetinginf
 o.php?id=203&amp\;ts=1770395852&nbsp\;
DTEND:20260422T170000Z
DTSTAMP:20260421T233602Z
DTSTART:20260422T160000Z
LOCATION:
SEQUENCE:0
SUMMARY:FCBFA Webinar: FDA’s Import Review Process: Cleaner Submissions\, F
 ewer Holds\, Faster Release
UID:RFCALITEM639124113629461740
X-ALT-DESC;FMTTYPE=text/html:<div>Drawing from their day-to-day work review
 ing FDA-regulated entries\, our speakers will discuss:</div><div>Product C
 lassification</div><div>Affirmations of Compliance Overview</div><div>Over
 view of Foreign Supplier Verification Program</div><div>FSVP File Requirem
 ents</div><div><p>Filer Evaluation Trends</p><p><a href="https://fcbf.star
 chapter.com/meetinginfo.php?id=203&amp\;ts=1770395852">https://fcbf.starch
 apter.com/meetinginfo.php?id=203&amp\;ts=1770395852</a>&nbsp\;</p></div>
END:VEVENT
END:VCALENDAR
