BEGIN:VCALENDAR
VERSION:2.0
METHOD:PUBLISH
PRODID:-//Telerik Inc.//Sitefinity CMS 15.3//EN
BEGIN:VTIMEZONE
TZID:Eastern Standard Time
BEGIN:STANDARD
DTSTART:20251102T020000
RRULE:FREQ=YEARLY;BYDAY=1SU;BYHOUR=2;BYMINUTE=0;BYMONTH=11
TZNAME:Eastern Standard Time
TZOFFSETFROM:-0400
TZOFFSETTO:-0500
END:STANDARD
BEGIN:DAYLIGHT
DTSTART:20250301T020000
RRULE:FREQ=YEARLY;BYDAY=2SU;BYHOUR=2;BYMINUTE=0;BYMONTH=3
TZNAME:Eastern Daylight Time
TZOFFSETFROM:-0500
TZOFFSETTO:-0400
END:DAYLIGHT
END:VTIMEZONE
BEGIN:VEVENT
DESCRIPTION:A webinar in the series for International Trade Month given by 
 CBP and moderated by FCBF.&nbsp\; It will cover the latest news on Section
  232 tariffs.https://fcbf.starchapter.com/meetinginfo.php?id=222&amp\;ts=1
 776701340&nbsp\;
DTEND:20260512T150000Z
DTSTAMP:20260422T014616Z
DTSTART:20260512T140000Z
LOCATION:
SEQUENCE:0
SUMMARY:FCBFA Webinar: Section 232
UID:RFCALITEM639124191769830554
X-ALT-DESC;FMTTYPE=text/html:<p>A webinar in the series for International T
 rade Month given by CBP and moderated by FCBF.&nbsp\; It will cover the la
 test news on Section 232 tariffs.</p><p><a href="https://fcbf.starchapter.
 com/meetinginfo.php?id=222&amp\;ts=1776701340">https://fcbf.starchapter.co
 m/meetinginfo.php?id=222&amp\;ts=1776701340</a>&nbsp\;</p>
END:VEVENT
END:VCALENDAR
