BEGIN:VCALENDAR
VERSION:2.0
METHOD:PUBLISH
PRODID:-//Telerik Inc.//Sitefinity CMS 15.3//EN
BEGIN:VTIMEZONE
TZID:Eastern Standard Time
BEGIN:STANDARD
DTSTART:20251102T020000
RRULE:FREQ=YEARLY;BYDAY=1SU;BYHOUR=2;BYMINUTE=0;BYMONTH=11
TZNAME:Eastern Standard Time
TZOFFSETFROM:-0400
TZOFFSETTO:-0500
END:STANDARD
BEGIN:DAYLIGHT
DTSTART:20250301T020000
RRULE:FREQ=YEARLY;BYDAY=2SU;BYHOUR=2;BYMINUTE=0;BYMONTH=3
TZNAME:Eastern Daylight Time
TZOFFSETFROM:-0500
TZOFFSETTO:-0400
END:DAYLIGHT
END:VTIMEZONE
BEGIN:VEVENT
DESCRIPTION:About The WebinarThis hour-long update reviews the latest trade
  policy developments and offers predictions on what may happen in the near
  future.Key TopicsU.S. tariffs on other countriesRetaliatory tariffsThe U.
 S.-Mexico-Canada Agreement 2026 renewal reviewLegislation that may impact 
 tariffshttps://www.strtrade.com/training/events/upcoming-webinars/tariffs-
 trade-in-turmoil-april-monthly-update&nbsp\;
DTEND:20260428T190000Z
DTSTAMP:20260421T235842Z
DTSTART:20260428T180000Z
LOCATION:
SEQUENCE:0
SUMMARY:STR Webinar: Tariffs & Trade in Turmoil [April Monthly Update]
UID:RFCALITEM639124127223642175
X-ALT-DESC;FMTTYPE=text/html:<div>About The Webinar</div><div>This hour-lon
 g update reviews the latest trade policy developments and offers predictio
 ns on what may happen in the near future.</div><div>Key Topics</div><div>U
 .S. tariffs on other countries</div><div>Retaliatory tariffs</div><div>The
  U.S.-Mexico-Canada Agreement 2026 renewal review</div><div><p>Legislation
  that may impact tariffs</p><p><a href="https://www.strtrade.com/training/
 events/upcoming-webinars/tariffs-trade-in-turmoil-april-monthly-update">ht
 tps://www.strtrade.com/training/events/upcoming-webinars/tariffs-trade-in-
 turmoil-april-monthly-update</a>&nbsp\;</p></div>
END:VEVENT
END:VCALENDAR
