BEGIN:VCALENDAR
VERSION:2.0
METHOD:PUBLISH
PRODID:-//Telerik Inc.//Sitefinity CMS 15.3//EN
BEGIN:VTIMEZONE
TZID:Eastern Standard Time
BEGIN:STANDARD
DTSTART:20251102T020000
RRULE:FREQ=YEARLY;BYDAY=1SU;BYHOUR=2;BYMINUTE=0;BYMONTH=11
TZNAME:Eastern Standard Time
TZOFFSETFROM:-0400
TZOFFSETTO:-0500
END:STANDARD
BEGIN:DAYLIGHT
DTSTART:20250301T020000
RRULE:FREQ=YEARLY;BYDAY=2SU;BYHOUR=2;BYMINUTE=0;BYMONTH=3
TZNAME:Eastern Daylight Time
TZOFFSETFROM:-0500
TZOFFSETTO:-0400
END:DAYLIGHT
END:VTIMEZONE
BEGIN:VEVENT
DESCRIPTION:About The WebinarWith technology constantly evolving and conver
 ging\, it can be a challenge to keep up with the latest rules and understa
 nd how to properly classify computers\, semiconductors\, smart devices\, i
 nformation technology infrastructure and consumer electronics\, particular
 ly in today’s tariff environment. Whether you are a novice or veteran clas
 sifier\, an in-house customs compliance professional or a customs broker\,
  this program will help you improve your classification skills\, avoid com
 mon pitfalls in hi-tech classification\, and learn some best practices on 
 the following key topics.Key TopicsApplying complex legal notes (including
  parts and accessories for Chs. 84\, 85\, and 90)Analyzing composite machi
 nes and understanding functional unitsDetermining principal function and w
 hen to use GRI 3(c)Recent rulings and Hot Topics (e.g.\, Semiconductor 232
  Tariff Action)https://www.strtrade.com/training/events/upcoming-webinars/
 classification-hi-tech&nbsp\;
DTEND:20260506T193000Z
DTSTAMP:20260421T233322Z
DTSTART:20260506T180000Z
LOCATION:
SEQUENCE:0
SUMMARY:STR Webinar: Classification: Hi-Tech
UID:RFCALITEM639124112024655574
X-ALT-DESC;FMTTYPE=text/html:<div>About The Webinar</div><div>With technolo
 gy constantly evolving and converging\, it can be a challenge to keep up w
 ith the latest rules and understand how to properly classify computers\, s
 emiconductors\, smart devices\, information technology infrastructure and 
 consumer electronics\, particularly in today’s tariff environment. Whether
  you are a novice or veteran classifier\, an in-house customs compliance p
 rofessional or a customs broker\, this program will help you improve your 
 classification skills\, avoid common pitfalls in hi-tech classification\, 
 and learn some best practices on the following key topics.</div><div>Key T
 opics</div><div>Applying complex legal notes (including parts and accessor
 ies for Chs. 84\, 85\, and 90)</div><div>Analyzing composite machines and 
 understanding functional units</div><div>Determining principal function an
 d when to use GRI 3(c)</div><div><p>Recent rulings and Hot Topics (e.g.\, 
 Semiconductor 232 Tariff Action)</p><p><a href="https://www.strtrade.com/t
 raining/events/upcoming-webinars/classification-hi-tech">https://www.strtr
 ade.com/training/events/upcoming-webinars/classification-hi-tech</a>&nbsp\
 ;</p></div>
END:VEVENT
END:VCALENDAR
