BEGIN:VCALENDAR
VERSION:2.0
METHOD:PUBLISH
PRODID:-//Telerik Inc.//Sitefinity CMS 15.3//EN
BEGIN:VTIMEZONE
TZID:Pacific Standard Time
BEGIN:STANDARD
DTSTART:20251102T020000
RRULE:FREQ=YEARLY;BYDAY=1SU;BYHOUR=2;BYMINUTE=0;BYMONTH=11
TZNAME:Pacific Standard Time
TZOFFSETFROM:-0700
TZOFFSETTO:-0800
END:STANDARD
BEGIN:DAYLIGHT
DTSTART:20250301T020000
RRULE:FREQ=YEARLY;BYDAY=2SU;BYHOUR=2;BYMINUTE=0;BYMONTH=3
TZNAME:Pacific Daylight Time
TZOFFSETFROM:-0800
TZOFFSETTO:-0700
END:DAYLIGHT
END:VTIMEZONE
BEGIN:VEVENT
DESCRIPTION:Significant tariff developments are impacting importers followi
 ng the recent Section 232 changes that took effect on April 6\, 2026\, and
  the upcoming April 20 launch of the CAPE system initiating Phase 1 of the
  IEEPA refund process.Join us as we break down these developments\, discus
 s the practical impact on importers and supply chains\, highlight complian
 ce risks and common pitfalls\, and provide actionable guidance to help you
 r organization adapt.Recent tariff developments are creating significant i
 mpacts for importers:· Section 232 tariffs now apply to the full value of 
 imported products\, not just metal content· Expansion of coverage to addit
 ional derivative goods· New Section 232 De Minimis exemption· Increased sc
 rutiny on classification\, valuation\, and reporting practices· Launch of 
 the CAPE system on April 20\, initiating Phase 1 of the IEEPA refund proce
 ss· Companies must actively submit claims\, organize data\, and monitor en
 tries over timeJoin us to:· Understand the practical impact on importers a
 nd supply chains· Identify compliance risks and common pitfalls· Gain acti
 onable guidance to help your organization adapt&nbsp\;https://otaymesa.glu
 eup.com/event/webinar-tariff-updates-latest-on-ieepa-cape-refund-process-a
 nd-section-232-changes-on-steel-aluminum-copper-178254/&nbsp\;
DTEND:20260421T223000Z
DTSTAMP:20260421T233736Z
DTSTART:20260421T203000Z
LOCATION:
SEQUENCE:0
SUMMARY:OMCC Webinar: Tariff Updates - Latest on IEEPA CAPE Refund Process 
 and Section 232 Changes on Steel\, Aluminum & Copper
UID:RFCALITEM639124114566793488
X-ALT-DESC;FMTTYPE=text/html:<div>Significant tariff developments are impac
 ting importers following the recent Section 232 changes that took effect o
 n April 6\, 2026\, and the upcoming April 20 launch of the CAPE system ini
 tiating Phase 1 of the IEEPA refund process.</div><div>Join us as we break
  down these developments\, discuss the practical impact on importers and s
 upply chains\, highlight compliance risks and common pitfalls\, and provid
 e actionable guidance to help your organization adapt.</div><div><br></div
 ><div>Recent tariff developments are creating significant impacts for impo
 rters:</div><div>· Section 232 tariffs now apply to the full value of impo
 rted products\, not just metal content</div><div>· Expansion of coverage t
 o additional derivative goods</div><div>· New Section 232 De Minimis exemp
 tion</div><div>· Increased scrutiny on classification\, valuation\, and re
 porting practices</div><div>· Launch of the CAPE system on April 20\, init
 iating Phase 1 of the IEEPA refund process</div><div>· Companies must acti
 vely submit claims\, organize data\, and monitor entries over time</div><d
 iv>Join us to:</div><div>· Understand the practical impact on importers an
 d supply chains</div><div>· Identify compliance risks and common pitfalls<
 /div><div>· Gain actionable guidance to help your organization adapt</div>
 <p>&nbsp\;</p><p><a href="https://otaymesa.glueup.com/event/webinar-tariff
 -updates-latest-on-ieepa-cape-refund-process-and-section-232-changes-on-st
 eel-aluminum-copper-178254/">https://otaymesa.glueup.com/event/webinar-tar
 iff-updates-latest-on-ieepa-cape-refund-process-and-section-232-changes-on
 -steel-aluminum-copper-178254/</a>&nbsp\;</p>
END:VEVENT
END:VCALENDAR
