BEGIN:VCALENDAR
VERSION:2.0
METHOD:PUBLISH
PRODID:-//Telerik Inc.//Sitefinity CMS 15.3//EN
BEGIN:VTIMEZONE
TZID:Eastern Standard Time
BEGIN:STANDARD
DTSTART:20251102T020000
RRULE:FREQ=YEARLY;BYDAY=1SU;BYHOUR=2;BYMINUTE=0;BYMONTH=11
TZNAME:Eastern Standard Time
TZOFFSETFROM:-0400
TZOFFSETTO:-0500
END:STANDARD
BEGIN:DAYLIGHT
DTSTART:20250301T020000
RRULE:FREQ=YEARLY;BYDAY=2SU;BYHOUR=2;BYMINUTE=0;BYMONTH=3
TZNAME:Eastern Daylight Time
TZOFFSETFROM:-0500
TZOFFSETTO:-0400
END:DAYLIGHT
END:VTIMEZONE
BEGIN:VEVENT
DESCRIPTION:Join us for this complimentary introductory webinar designed fo
 r business stakeholders and professionals seeking a foundational understan
 ding of trade and customs and their impact on organizations. This session 
 is ideal for individuals who are new to trade and customs concepts\, as we
 ll as those who engage with these functions as part of their role but want
  greater context and clarity.Through a guided panel discussion\, participa
 nts will explore core trade and customs topics\, including what a tariff c
 lassification code is\, how duty rates are determined\, and what “origin” 
 means in a practical and regulatory context. The session will also examine
  the role of a trade and customs function within an organization and the k
 ey elements required for it to operate effectively and support compliance\
 , risk management\, and business decision‑making.This webinar emphasizes p
 ractical understanding and professional development\, equipping participan
 ts with the knowledge needed to better engage with internal stakeholders\,
  external partners\, and trade and customs professionals.https://iecanada.
 member365.com/public/event/details/26cf336463daac4b8e5be4bd6feaf6590385c41
 6/1&nbsp\;
DTEND:20260428T190000Z
DTSTAMP:20260421T233751Z
DTSTART:20260428T180000Z
LOCATION:
SEQUENCE:0
SUMMARY:CAIE Webinar: Trade & Customs 101 – What everyone wants to know but
  is afraid to ask
UID:RFCALITEM639124114718295725
X-ALT-DESC;FMTTYPE=text/html:<div>Join us for this complimentary introducto
 ry webinar designed for business stakeholders and professionals seeking a 
 foundational understanding of trade and customs and their impact on organi
 zations. This session is ideal for individuals who are new to trade and cu
 stoms concepts\, as well as those who engage with these functions as part 
 of their role but want greater context and clarity.</div><div><br></div><d
 iv>Through a guided panel discussion\, participants will explore core trad
 e and customs topics\, including what a tariff classification code is\, ho
 w duty rates are determined\, and what “origin” means in a practical and r
 egulatory context. The session will also examine the role of a trade and c
 ustoms function within an organization and the key elements required for i
 t to operate effectively and support compliance\, risk management\, and bu
 siness decision‑making.</div><div><br></div><div><p>This webinar emphasize
 s practical understanding and professional development\, equipping partici
 pants with the knowledge needed to better engage with internal stakeholder
 s\, external partners\, and trade and customs professionals.</p><p><a href
 ="https://iecanada.member365.com/public/event/details/26cf336463daac4b8e5b
 e4bd6feaf6590385c416/1">https://iecanada.member365.com/public/event/detail
 s/26cf336463daac4b8e5be4bd6feaf6590385c416/1</a>&nbsp\;</p></div>
END:VEVENT
END:VCALENDAR
