BEGIN:VCALENDAR
VERSION:2.0
METHOD:PUBLISH
PRODID:-//Telerik Inc.//Sitefinity CMS 15.3//EN
BEGIN:VTIMEZONE
TZID:Eastern Standard Time
BEGIN:STANDARD
DTSTART:20251102T020000
RRULE:FREQ=YEARLY;BYDAY=1SU;BYHOUR=2;BYMINUTE=0;BYMONTH=11
TZNAME:Eastern Standard Time
TZOFFSETFROM:-0400
TZOFFSETTO:-0500
END:STANDARD
BEGIN:DAYLIGHT
DTSTART:20250301T020000
RRULE:FREQ=YEARLY;BYDAY=2SU;BYHOUR=2;BYMINUTE=0;BYMONTH=3
TZNAME:Eastern Daylight Time
TZOFFSETFROM:-0500
TZOFFSETTO:-0400
END:DAYLIGHT
END:VTIMEZONE
BEGIN:VEVENT
DESCRIPTION:Understanding where compliance challenges typically arise is es
 sential for importers working to strengthen their internal processes and m
 eet regulatory expectations. In this session\, Ania Fuller and Amy Lauzier
 e will walk through frequently observed issues within import operations an
 d share insights drawn from real-world experience\, industry trends\, and 
 common patterns seen across compliance reviews.This webinar will provide a
  broad look at the types of mistakes\, oversights\, and process gaps that 
 often lead to compliance concerns—and highlight practical ways importers c
 an stay proactive and maintain stronger oversight.https://anderinger.cvent
 events.com/hub/events/28bb9008-434e-40f6-adb4-98b84e89f82c/landing&nbsp\;
DTEND:20260513T190000Z
DTSTAMP:20260422T012651Z
DTSTART:20260513T180000Z
LOCATION:
SEQUENCE:0
SUMMARY:AND Webinar: Audit Findings and Common Compliance Issues
UID:RFCALITEM639124180116290992
X-ALT-DESC;FMTTYPE=text/html:<div>Understanding where compliance challenges
  typically arise is essential for importers working to strengthen their in
 ternal processes and meet regulatory expectations. In this session\, Ania 
 Fuller and Amy Lauziere will walk through frequently observed issues withi
 n import operations and share insights drawn from real-world experience\, 
 industry trends\, and common patterns seen across compliance reviews.</div
 ><div><br></div><div><p>This webinar will provide a broad look at the type
 s of mistakes\, oversights\, and process gaps that often lead to complianc
 e concerns—and highlight practical ways importers can stay proactive and m
 aintain stronger oversight.</p><p><a href="https://anderinger.cventevents.
 com/hub/events/28bb9008-434e-40f6-adb4-98b84e89f82c/landing">https://ander
 inger.cventevents.com/hub/events/28bb9008-434e-40f6-adb4-98b84e89f82c/land
 ing</a>&nbsp\;</p></div>
END:VEVENT
END:VCALENDAR
